BEGIN:VCALENDAR
VERSION:2.0
PRODID:-//ChamberMaster//Event Calendar 2.0//EN
METHOD:PUBLISH
X-PUBLISHED-TTL:P1H
REFRESH-INTERVAL:P1H
CALSCALE:GREGORIAN
BEGIN:VTIMEZONE
TZID:America/New_York
BEGIN:DAYLIGHT
RRULE:FREQ=YEARLY;BYMONTH=3;BYDAY=2SU
DTSTART:20070101T000000
TZOFFSETFROM:-0500
TZOFFSETTO:-0400
TZNAME:Eastern Daylight Time
END:DAYLIGHT
BEGIN:STANDARD
RRULE:FREQ=YEARLY;BYMONTH=11;BYDAY=1SU
DTSTART:20070101T000000
TZOFFSETFROM:-0400
TZOFFSETTO:-0500
TZNAME:Eastern Standard Time
END:STANDARD
END:VTIMEZONE
BEGIN:VEVENT
DTSTART;TZID=America/New_York:20250212T090000
DTEND;TZID=America/New_York:20250212T100000
X-MICROSOFT-CDO-ALLDAYEVENT:FALSE
SUMMARY:Power Hour at General Cleaners
DESCRIPTION:Kick off 2025 with a Power Hour!Join us at the newly renovated General Cleaners! Now under *new management*! Come learn about this historic Holyoke business and see what makes them stand out. You will also get to mingle with colleagues\, meet the amazing team\, and bring your dry cleaning to save 10%\n*Plus* bring new or gently used coats for a coat drive to benefit the Salvation Army of Holyoke to directly aid our community this winter season! Hot coffee\, hot snacks\, hot connections! See you there!
X-ALT-DESC;FMTTYPE=text/html:<!DOCTYPE html><html><head><title></title></head><body aria-disabled="false"><p><strong fr-original-style="" style="font-weight: 700\;"><em>Kick off 2025 with a Power Hour!</em></strong></p><p>Join us at the newly renovated General Cleaners! Now under *new management*! Come learn about this historic Holyoke business and see what makes them stand out. You will also get to mingle with colleagues\, meet the amazing team\, and <strong fr-original-style="" style="font-weight: 700\;">bring your dry cleaning to save 10%</strong></p><p><strong fr-original-style="" style="font-weight: 700\;">\n<em>*Plus*</em></strong> bring new or gently used coats for a coat drive to benefit the Salvation Army of Holyoke to directly aid our community this winter season! Hot coffee\, hot snacks\, hot connections! See you there!</p></body></html>
LOCATION:361 South Street Holyoke MA 01040
UID:e.2969.1129408
SEQUENCE:3
DTSTAMP:20260425T031357Z
URL:https://business.holyokechamber.com/events/Details/power-hour-at-general-cleaners-1312336?sourceTypeId=Hub
END:VEVENT
END:VCALENDAR
