BEGIN:VCALENDAR
VERSION:2.0
PRODID:-//ChamberMaster//Event Calendar 2.0//EN
METHOD:PUBLISH
X-PUBLISHED-TTL:P1H
REFRESH-INTERVAL:P1H
CALSCALE:GREGORIAN
BEGIN:VTIMEZONE
TZID:America/New_York
BEGIN:DAYLIGHT
RRULE:FREQ=YEARLY;BYMONTH=3;BYDAY=2SU
DTSTART:20070101T000000
TZOFFSETFROM:-0500
TZOFFSETTO:-0400
TZNAME:Eastern Daylight Time
END:DAYLIGHT
BEGIN:STANDARD
RRULE:FREQ=YEARLY;BYMONTH=11;BYDAY=1SU
DTSTART:20070101T000000
TZOFFSETFROM:-0400
TZOFFSETTO:-0500
TZNAME:Eastern Standard Time
END:STANDARD
END:VTIMEZONE
BEGIN:VEVENT
DTSTART;TZID=America/New_York:20260502T093000
DTEND;TZID=America/New_York:20260502T153000
X-MICROSOFT-CDO-ALLDAYEVENT:FALSE
SUMMARY:Mini Golf and Games at the Library
DESCRIPTION:We are pleased to announce plans for "Mini Golf and Games at the Library!"   A series of FREE and FUN activities inside and outside of the Holyoke Public Library on Saturday\, May 2nd:\nMini Golf in the Library\, Free for all ages\, 9:30 am - 3:30 pm\, 18 holes of miniature golf inside the building\, on all floors!Games outside in Library Park\, 10:30 am   3pm\, featuring outdoor games and activities for all agesLucky Ticket auction with a range of donated prizes and services available.Since 2016\, "Mini Golf in the Library!" has been a significant fundraiser for our Library. This weekend event also includes games OUTSIDE the library. More info to Sponsor or Donate here: https://holyokelibrary.org/library-minigolf-and-games/Proceeds will be used to augment services and programming\, especially Summer Reading and other Literacy programs\, for Children\, Teens and Adults.  These funds can help provide workshops that engage kids and adults in arts and crafts\, robotics\, and technology.
X-ALT-DESC;FMTTYPE=text/html:<!DOCTYPE html><html><head><title></title></head><body aria-disabled="false"><p style="margin-bottom:0in\;line-height:normal\;">We are pleased to announce plans for <b style="mso-bidi-font-weight:normal\;">&ldquo\;Mini Golf and Games at the Library!&rdquo\;</b> &ndash\; A series of FREE and FUN activities inside and outside of the Holyoke Public Library on <strong fr-original-style="" style="font-weight: 700\;">Saturday\, May 2nd</strong>:</p><p style="margin-bottom:0in\;line-height:normal\;"><br style="mso-special-character: line-break\;"><!--[if !supportLineBreakNewLine]--></p><p style="margin-top:0in\;margin-right:0in\;margin-bottom:0in\; margin-left:.5in\;text-indent:-.25in\;line-height:normal\;mso-list:l0 level1 lfo1\;"><b style="mso-bidi-font-weight:normal\;">Mini Golf in the Library</b>\, Free for all ages\, 9:30 am - 3:30 pm\, 18 holes of miniature golf inside the building\, on all floors!</p><p style="margin-top:0in\;margin-right:0in\;margin-bottom:0in\; margin-left:.5in\;text-indent:-.25in\;line-height:normal\;mso-list:l0 level1 lfo1\;"><b style="mso-bidi-font-weight:normal\;">Games outside in Library Park</b>\, 10:30 am &ndash\; 3pm\, featuring outdoor games and activities for all ages</p><p style="margin-top:0in\;margin-right:0in\;margin-bottom:0in\; margin-left:.5in\;text-indent:-.25in\;line-height:normal\;mso-list:l0 level1 lfo1\;"><b style="mso-bidi-font-weight:normal\;">Lucky Ticket auction</b> with a range of donated prizes and services available.</p><p style="margin-bottom:0in\;line-height:normal\;">Since 2016\, &ldquo\;Mini Golf in the Library!&rdquo\; has been a significant fundraiser for our Library. This weekend event also includes games OUTSIDE the library. More info to Sponsor or Donate here: <a fr-original-style="" href="https://holyokelibrary.org/library-minigolf-and-games/" style="user-select: auto\;">https://holyokelibrary.org/library-minigolf-and-games/</a></p><p style="margin-bottom:0in\;line-height:normal\;"><strong fr-original-style="" style="font-weight: 700\;">Proceeds will be used to augment services and programming\, especially Summer Reading and other Literacy programs\, for Children\, Teens and Adults.</strong>&nbsp\; These funds can help provide workshops that engage kids and adults in arts and crafts\, robotics\, and technology.</p></body></html>
LOCATION:
UID:e.2969.1444505
SEQUENCE:3
DTSTAMP:20260423T102655Z
URL:https://business.holyokechamber.com/events/Details/mini-golf-and-games-at-the-library-1710881?sourceTypeId=Hub
END:VEVENT
END:VCALENDAR
