BEGIN:VCALENDAR
VERSION:2.0
PRODID:-//ChamberMaster//Event Calendar 2.0//EN
METHOD:PUBLISH
X-PUBLISHED-TTL:P1H
REFRESH-INTERVAL:P1H
CALSCALE:GREGORIAN
BEGIN:VTIMEZONE
TZID:America/New_York
BEGIN:DAYLIGHT
RRULE:FREQ=YEARLY;BYMONTH=3;BYDAY=2SU
DTSTART:20070101T000000
TZOFFSETFROM:-0500
TZOFFSETTO:-0400
TZNAME:Eastern Daylight Time
END:DAYLIGHT
BEGIN:STANDARD
RRULE:FREQ=YEARLY;BYMONTH=11;BYDAY=1SU
DTSTART:20070101T000000
TZOFFSETFROM:-0400
TZOFFSETTO:-0500
TZNAME:Eastern Standard Time
END:STANDARD
END:VTIMEZONE
BEGIN:VEVENT
DTSTART;TZID=America/New_York:20260501T090000
DTEND;TZID=America/New_York:20260501T170000
X-MICROSOFT-CDO-ALLDAYEVENT:FALSE
SUMMARY:First Friday Free Coworking - May 2025
DESCRIPTION:Discover the benefits of working in a distraction free environment at Urban Co-Works on First Friday for a FREE day of coworking!Welcome to First Friday Free Co-Working!Come join us at URBAN CO-WORKS for a day of productivity. This event is the perfect opportunity to get your work done in a vibrant co-working space and network with fellow professionals. Whether you're a freelancer\, entrepreneur\, or remote worker\, this event is open to all. Don't miss out on this chance to experience the benefits of co-working for free! See you there on the first Friday of the month!
X-ALT-DESC;FMTTYPE=text/html:<!DOCTYPE html><html><head><title></title></head><body aria-disabled="false"><div data-testid="text-content"><p>Discover the benefits of working in a distraction free environment at Urban Co-Works on First Friday for a FREE day of coworking!</p></div><div data-testid="text-content"><p><strong fr-original-style="" style="font-weight: 700\;"><strong fr-original-style="" style="font-weight: 700\;">Welcome to First Friday Free Co-Working!</strong></strong></p><p>Come join us at <strong fr-original-style="" style="font-weight: 700\;"><strong fr-original-style="" style="font-weight: 700\;">URBAN CO-WORKS</strong></strong> for a day of productivity. This event is the perfect opportunity to get your work done in a vibrant co-working space and network with fellow professionals. Whether you&#39\;re a freelancer\, entrepreneur\, or remote worker\, this event is open to all. Don&#39\;t miss out on this chance to experience the benefits of co-working for free! See you there on the first Friday of the month!</p></div></body></html>
LOCATION:
UID:e.2969.1447101
SEQUENCE:3
DTSTAMP:20260423T102753Z
URL:https://business.holyokechamber.com/events/Details/first-friday-free-coworking-may-2025-1713918?sourceTypeId=Hub
END:VEVENT
END:VCALENDAR
